Workbook

Sheet Kosztorys_klient
D1: Załącznik nr 4 do Instrukcji sporządzania kosztorysów oraz rozliczania transz na budowę/remont/wykończenie nieruchomości mieszkalnych
B2: WYPEŁNIA KLIENT
B4: I. DANE KLIENTA I NIERUCHOMOŚCI
B5: Imię i Nazwisko Kredytobiorcy:
B6: Adres Inwestycji
C7: Województwo:
C8: Powiat:
C9: Gmina:
C10: Miejscowość:
C11: Ulica:
C12: Nr Działki:
C13: Nr Budynku:
C14: Nr Lokalu:
B16: II. KOSZTORYS
B17: Lp. | C17: Pozycje kosztorysowe | D17: Koszty do poniesienia przez Kredytobiorcę
B18: 1 | C18: Tynki wewnętrzne | D18: 0
B19: 2 | C19: Posadzki (wylewki) | D19: 0
B20: 3 | C20: Roboty malarskie | D20: 0
B21: 4 | C21: Okładziny ścian (np. glazura, kamień, tynk ozbodny, szkło itd) | D21: 0
B22: 5 | C22: Podłogi (wykładzina, terakota, panele, itd.) | D22: 0
B23: 6 | C23: Stolarka okienna | D23: 0
B24: 7 | C24: Stolarka drzwiowa | D24: 0
B25: 8 | C25: Instalacja c.o. (m. in. grzejniki, piec itp.) | D25: 0
B26: 9 | C26: Instalacja wodno-kanalizacyjna | D26: 0
B27: 10 | C27: Instalacja elektryczna | D27: 0
B28: 11 | C28: Instalacja gazowa | D28: 0
B29: 12 | C29: Biały montaż i armatura (kuchnia, łazienka) | D29: 0
... B34: 17 | C34: Koszty rozbiórki | D34: 0
B35: 18 | C35: Inne opisowe:
B36: 18.1 | D36: 0
B37: 18.2 | D37: 0
B38: 18.3 | D38: 0
B39: 18.4 | D39: 0
B40: 18.5 | D40: 0
B41: 18.6 | D41: 0
B42: Łączny koszt prac wykończeniowych | D42: =SUM(D18:E34)+SUM(D36:E41) -> 0
B43: Planowany termin zakończenia prac
B45: III. WNIOSKOWANE FINANSOWANIE
B46: Wnioskowana kwota kredytu | D46: 0
B47: Koszty do poniesienia | D47: =D42 -> 0
B48: w tym :
B49: Koszty do poniesienia z kredytu | D49: 0
B50: Deklarowany udział własny do wniesienia (środki własne muszą zostać rozliczone przed uruchomieniem ostatniej transzy) | D50: 0
B51: Środki z kredytu do rozdysponowania na proponowane przez Klienta wysokości transz (proponowane wysokości transz podlegaja weryfikacji przez Bank)
B52: transza nr 1 | D52: 0
B53: transza nr 2 | D53: 0
B54: transza nr 3 | D54: 0
B55: transza nr 4 | D55: 0
B56: transza nr 5 | D56: 0
B57: transza nr 6 | D57: 0
B58: transza nr 7 | D58: 0
B59: transza nr 8 | D59: 0
B60: transza nr 9 | D60: 0
B61: transza nr 10 | D61: 0
B62: suma transz | D62: =SUM(D52:E61) -> 0
D65: Data i Podpis Kredytobiorcy
D67: ……………………………………………

Sheet Kontrola wypłaty transz 
A5: I. KOSZTORYS | F5: ROZLICZENIE TRANSZ w zakresie kosztów do FINANSOWANIA (BEZ REFINANSOWANIA I GRUNTU)
A6: Lp. | B6: Pozycje kosztorysowe | C6: Szacowane przez Kredytobiorę koszty do poniesienia | D6: faktury | F6: I transza 1 wypłata (%) | G6: I transza 2 wypłata (%) | I6: II transza (%) | J6: II transza 2 wypłata (%) | L6: III transza (%) | M6: III transza 2 wypłata (%) | O6: IV transza (%) | P6: IV transza 2 wypłata (%) | R6: V transza (%) | S6: V transza 2 wypłata (%) | U6: VI transza (%) | V6: VI transza 2 wypłata (%) | X6: VII transza (%) | Y6: VII transza 2 wypłata (%) | AA6: VIII transza (%) | AB6: VIII transza 2 wypłata (%) | AD6: VIII transza (%) | AE6: VIII transza 2 wypłata (%) | AG6: IX transza (%) | AH6: IX transza 2 wypłata (%) | AJ6: X transza (%) | AK6: X transza 2 wypłata (%) | AM6: KONTROLA POPRAWNOŚCI
A7: 1 | B7: Tynki wewnętrzne | C7: =Kosztorys_klient!D18 -> 0 | D7: 0 | F7: 0.1 | G7: 0.2 | H7: =(G7*C7)+(C7*F7) -> 0 | I7: 0.1 | J7: 0 | K7: =(C7*I7)+(C7*J7) -> 0 | L7: 0 | M7: 0 | N7: =(C7*L7)+(C7*M7) -> 0 | O7: 0 | P7: 0 | Q7: =(C7*O7)+(C7*P7) -> 0 | R7: 0 | S7: 0 | T7: =(C7*R7)+(C7*S7) -> 0 | U7: 0 | V7: 0 | W7: =(C7*U7)+(C7*V7) -> 0 | X7: 0 | Y7: 0 | Z7: =(C7*X7)+(C7*Y7) -> 0 | AA7: 0 | AB7: 0 | AC7: =(C7*AA7)+(C7*AB7) -> 0 | AD7: 0 | AE7: 0 | AF7: =(F7*AD7)+(F7*AE7) -> 0 | AG7: 0 | AH7: 0 | AI7: =(I7*AG7)+(I7*AH7) -> 0 | AJ7: 0 | AK7: 0 | AL7: =(L7*AJ7)+(L7*AK7) -> 0 | AM7: =H7+K7+N7+Q7+T7+W7+Z7+AC7+AF7+AI7+AL7 -> 0
A8: 2 | B8: Posadzki (wylewki) | C8: =Kosztorys_klient!D19 -> 0 | D8: 0 | F8: 0 | G8: 0 | H8: =(G8*C8)+(C8*F8) -> 0 | I8: 0 | J8: 0 | K8: =(C8*I8)+(C8*J8) -> 0 | L8: 0 | M8: 0 | N8: =(C8*L8)+(C8*M8) -> 0 | O8: 0 | P8: 0 | Q8: =(C8*O8)+(C8*P8) -> 0 | R8: 0 | S8: 0 | T8: =(C8*R8)+(C8*S8) -> 0 | U8: 0 | V8: 0 | W8: =(C8*U8)+(C8*V8) -> 0 | X8: 0 | Y8: 0 | Z8: =(C8*X8)+(C8*Y8) -> 0 | AA8: 0 | AB8: 0 | AC8: =(C8*AA8)+(C8*AB8) -> 0 | AD8: 0 | AE8: 0 | AF8: =(F8*AD8)+(F8*AE8) -> 0 | AG8: 0 | AH8: 0 | AI8: =(I8*AG8)+(I8*AH8) -> 0 | AJ8: 0 | AK8: 0 | AL8: =(L8*AJ8)+(L8*AK8) -> 0 | AM8: =H8+K8+N8+Q8+T8+W8+Z8+AC8+AF8+AI8+AL8 -> 0
A9: 3 | B9: Roboty malarskie | C9: =Kosztorys_klient!D20 -> 0 | D9: 0 | F9: 0 | G9: 0 | H9: =(G9*C9)+(C9*F9) -> 0 | I9: 0 | J9: 0 | K9: =(C9*I9)+(C9*J9) -> 0 | L9: 0 | M9: 0 | N9: =(C9*L9)+(C9*M9) -> 0 | O9: 0 | P9: 0 | Q9: =(C9*O9)+(C9*P9) -> 0 | R9: 0 | S9: 0 | T9: =(C9*R9)+(C9*S9) -> 0 | U9: 0 | V9: 0 | W9: =(C9*U9)+(C9*V9) -> 0 | X9: 0 | Y9: 0 | Z9: =(C9*X9)+(C9*Y9) -> 0 | AA9: 0 | AB9: 0 | AC9: =(C9*AA9)+(C9*AB9) -> 0 | AD9: 0 | AE9: 0 | AF9: =(F9*AD9)+(F9*AE9) -> 0 | AG9: 0 | AH9: 0 | AI9: =(I9*AG9)+(I9*AH9) -> 0 | AJ9: 0 | AK9: 0 | AL9: =(L9*AJ9)+(L9*AK9) -> 0 | AM9: =H9+K9+N9+Q9+T9+W9+Z9+AC9+AF9+AI9+AL9 -> 0
A10: 4 | B10: Okładziny ścian (np. glazura, kamień, tynk ozbodny, szkło itd) | C10: =Kosztorys_klient!D21 -> 0 | D10: 0 | F10: 0 | G10: 0 | H10: =(G10*C10)+(C10*F10) -> 0 | I10: 0 | J10: 0 | K10: =(C10*I10)+(C10*J10) -> 0 | L10: 0 | M10: 0 | N10: =(C10*L10)+(C10*M10) -> 0 | O10: 0 | P10: 0 | Q10: =(C10*O10)+(C10*P10) -> 0 | R10: 0 | S10: 0 | T10: =(C10*R10)+(C10*S10) -> 0 | U10: 0 | V10: 0 | W10: =(C10*U10)+(C10*V10) -> 0 | X10: 0 | Y10: 0 | Z10: =(C10*X10)+(C10*Y10) -> 0 | AA10: 0 | AB10: 0 | AC10: =(C10*AA10)+(C10*AB10) -> 0 | AD10: 0 | AE10: 0 | AF10: =(F10*AD10)+(F10*AE10) -> 0 | AG10: 0 | AH10: 0 | AI10: =(I10*AG10)+(I10*AH10) -> 0 | AJ10: 0 | AK10: 0 | AL10: =(L10*AJ10)+(L10*AK10) -> 0 | AM10: =H10+K10+N10+Q10+T10+W10+Z10+AC10+AF10+AI10+AL10 -> 0
A11: 5 | B11: Podłogi (wykładzina, terakota, panele, itd.) | C11: =Kosztorys_klient!D22 -> 0 | D11: 0 | F11: 0 | G11: 0 | H11: =(G11*C11)+(C11*F11) -> 0 | I11: 0 | J11: 0 | K11: =(C11*I11)+(C11*J11) -> 0 | L11: 0 | M11: 0 | N11: =(C11*L11)+(C11*M11) -> 0 | O11: 0 | P11: 0 | Q11: =(C11*O11)+(C11*P11) -> 0 | R11: 0 | S11: 0 | T11: =(C11*R11)+(C11*S11) -> 0 | U11: 0 | V11: 0 | W11: =(C11*U11)+(C11*V11) -> 0 | X11: 0 | Y11: 0 | Z11: =(C11*X11)+(C11*Y11) -> 0 | AA11: 0 | AB11: 0 | AC11: =(C11*AA11)+(C11*AB11) -> 0 | AD11: 0 | AE11: 0 | AF11: =(F11*AD11)+(F11*AE11) -> 0 | AG11: 0 | AH11: 0 | AI11: =(I11*AG11)+(I11*AH11) -> 0 | AJ11: 0 | AK11: 0 | AL11: =(L11*AJ11)+(L11*AK11) -> 0 | AM11: =H11+K11+N11+Q11+T11+W11+Z11+AC11+AF11+AI11+AL11 -> 0
A12: 6 | B12: Stolarka okienna | C12: =Kosztorys_klient!D23 -> 0 | D12: 0 | F12: 0 | G12: 0 | H12: =(G12*C12)+(C12*F12) -> 0 | I12: 0 | J12: 0 | K12: =(C12*I12)+(C12*J12) -> 0 | L12: 0 | M12: 0 | N12: =(C12*L12)+(C12*M12) -> 0 | O12: 0 | P12: 0 | Q12: =(C12*O12)+(C12*P12) -> 0 | R12: 0 | S12: 0 | T12: =(C12*R12)+(C12*S12) -> 0 | U12: 0 | V12: 0 | W12: =(C12*U12)+(C12*V12) -> 0 | X12: 0 | Y12: 0 | Z12: =(C12*X12)+(C12*Y12) -> 0 | AA12: 0 | AB12: 0 | AC12: =(C12*AA12)+(C12*AB12) -> 0 | AD12: 0 | AE12: 0 | AF12: =(F12*AD12)+(F12*AE12) -> 0 | AG12: 0 | AH12: 0 | AI12: =(I12*AG12)+(I12*AH12) -> 0 | AJ12: 0 | AK12: 0 | AL12: =(L12*AJ12)+(L12*AK12) -> 0 | AM12: =H12+K12+N12+Q12+T12+W12+Z12+AC12+AF12+AI12+AL12 -> 0
A13: 7 | B13: Stolarka drzwiowa | C13: =Kosztorys_klient!D24 -> 0 | D13: 0 | F13: 0 | G13: 0 | H13: =(G13*C13)+(C13*F13) -> 0 | I13: 0 | J13: 0 | K13: =(C13*I13)+(C13*J13) -> 0 | L13: 0 | M13: 0 | N13: =(C13*L13)+(C13*M13) -> 0 | O13: 0 | P13: 0 | Q13: =(C13*O13)+(C13*P13) -> 0 | R13: 0 | S13: 0 | T13: =(C13*R13)+(C13*S13) -> 0 | U13: 0 | V13: 0 | W13: =(C13*U13)+(C13*V13) -> 0 | X13: 0 | Y13: 0 | Z13: =(C13*X13)+(C13*Y13) -> 0 | AA13: 0 | AB13: 0 | AC13: =(C13*AA13)+(C13*AB13) -> 0 | AD13: 0 | AE13: 0 | AF13: =(F13*AD13)+(F13*AE13) -> 0 | AG13: 0 | AH13: 0 | AI13: =(I13*AG13)+(I13*AH13) -> 0 | AJ13: 0 | AK13: 0 | AL13: =(L13*AJ13)+(L13*AK13) -> 0 | AM13: =H13+K13+N13+Q13+T13+W13+Z13+AC13+AF13+AI13+AL13 -> 0
A14: 8 | B14: Instalacja c.o. (m. in. grzejniki, piec itp.) | C14: =Kosztorys_klient!D25 -> 0 | D14: 0 | F14: 0 | G14: 0 | H14: =(G14*C14)+(C14*F14) -> 0 | I14: 0 | J14: 0 | K14: =(C14*I14)+(C14*J14) -> 0 | L14: 0 | M14: 0 | N14: =(C14*L14)+(C14*M14) -> 0 | O14: 0 | P14: 0 | Q14: =(C14*O14)+(C14*P14) -> 0 | R14: 0 | S14: 0 | T14: =(C14*R14)+(C14*S14) -> 0 | U14: 0 | V14: 0 | W14: =(C14*U14)+(C14*V14) -> 0 | X14: 0 | Y14: 0 | Z14: =(C14*X14)+(C14*Y14) -> 0 | AA14: 0 | AB14: 0 | AC14: =(C14*AA14)+(C14*AB14) -> 0 | AD14: 0 | AE14: 0 | AF14: =(F14*AD14)+(F14*AE14) -> 0 | AG14: 0 | AH14: 0 | AI14: =(I14*AG14)+(I14*AH14) -> 0 | AJ14: 0 | AK14: 0 | AL14: =(L14*AJ14)+(L14*AK14) -> 0 | AM14: =H14+K14+N14+Q14+T14+W14+Z14+AC14+AF14+AI14+AL14 -> 0
A15: 9 | B15: Instalacja wod-kan. | C15: =Kosztorys_klient!D26 -> 0 | D15: 0 | F15: 0.1 | G15: 0 | H15: =(G15*C15)+(C15*F15) -> 0 | I15: 0 | J15: 0 | K15: =(C15*I15)+(C15*J15) -> 0 | L15: 0 | M15: 0 | N15: =(C15*L15)+(C15*M15) -> 0 | O15: 0 | P15: 0 | Q15: =(C15*O15)+(C15*P15) -> 0 | R15: 0 | S15: 0 | T15: =(C15*R15)+(C15*S15) -> 0 | U15: 0 | V15: 0 | W15: =(C15*U15)+(C15*V15) -> 0 | X15: 0 | Y15: 0 | Z15: =(C15*X15)+(C15*Y15) -> 0 | AA15: 0 | AB15: 0 | AC15: =(C15*AA15)+(C15*AB15) -> 0 | AD15: 0 | AE15: 0 | AF15: =(F15*AD15)+(F15*AE15) -> 0 | AG15: 0 | AH15: 0 | AI15: =(I15*AG15)+(I15*AH15) -> 0 | AJ15: 0 | AK15: 0 | AL15: =(L15*AJ15)+(L15*AK15) -> 0 | AM15: =H15+K15+N15+Q15+T15+W15+Z15+AC15+AF15+AI15+AL15 -> 0
A16: 10 | B16: Instalacja elektryczna | C16: =Kosztorys_klient!D27 -> 0 | D16: 0 | F16: 1 | G16: 0 | H16: =(G16*C16)+(C16*F16) -> 0 | I16: 0 | J16: 0 | K16: =(C16*I16)+(C16*J16) -> 0 | L16: 0 | M16: 0 | N16: =(C16*L16)+(C16*M16) -> 0 | O16: 0 | P16: 0 | Q16: =(C16*O16)+(C16*P16) -> 0 | R16: 0 | S16: 0 | T16: =(C16*R16)+(C16*S16) -> 0 | U16: 0 | V16: 0 | W16: =(C16*U16)+(C16*V16) -> 0 | X16: 0 | Y16: 0 | Z16: =(C16*X16)+(C16*Y16) -> 0 | AA16: 0 | AB16: 0 | AC16: =(C16*AA16)+(C16*AB16) -> 0 | AD16: 0 | AE16: 0 | AF16: =(F16*AD16)+(F16*AE16) -> 0 | AG16: 0 | AH16: 0 | AI16: =(I16*AG16)+(I16*AH16) -> 0 | AJ16: 0 | AK16: 0 | AL16: =(L16*AJ16)+(L16*AK16) -> 0 | AM16: =H16+K16+N16+Q16+T16+W16+Z16+AC16+AF16+AI16+AL16 -> 0
A17: 11 | B17: Instalacja gazowa | C17: =Kosztorys_klient!D28 -> 0 | D17: 0 | F17: 0 | G17: 0 | H17: =(G17*C17)+(C17*F17) -> 0 | I17: 0 | J17: 0 | K17: =(C17*I17)+(C17*J17) -> 0 | L17: 0 | M17: 0 | N17: =(C17*L17)+(C17*M17) -> 0 | O17: 0 | P17: 0 | Q17: =(C17*O17)+(C17*P17) -> 0 | R17: 0 | S17: 0 | T17: =(C17*R17)+(C17*S17) -> 0 | U17: 0 | V17: 0 | W17: =(C17*U17)+(C17*V17) -> 0 | X17: 0 | Y17: 0 | Z17: =(C17*X17)+(C17*Y17) -> 0 | AA17: 0 | AB17: 0 | AC17: =(C17*AA17)+(C17*AB17) -> 0 | AD17: 0 | AE17: 0 | AF17: =(F17*AD17)+(F17*AE17) -> 0 | AG17: 0 | AH17: 0 | AI17: =(I17*AG17)+(I17*AH17) -> 0 | AJ17: 0 | AK17: 0 | AL17: =(L17*AJ17)+(L17*AK17) -> 0 | AM17: =H17+K17+N17+Q17+T17+W17+Z17+AC17+AF17+AI17+AL17 -> 0
A18: 12 | B18: Biały montaż i armatura (kuchnia, łazienka) | C18: =Kosztorys_klient!D29 -> 0 | D18: 0 | F18: 0 | G18: 0 | H18: =(G18*C18)+(C18*F18) -> 0 | I18: 0 | J18: 0 | K18: =(C18*I18)+(C18*J18) -> 0 | L18: 0 | M18: 0 | N18: =(C18*L18)+(C18*M18) -> 0 | O18: 0 | P18: 0 | Q18: =(C18*O18)+(C18*P18) -> 0 | R18: 0 | S18: 0 | T18: =(C18*R18)+(C18*S18) -> 0 | U18: 0 | V18: 0 | W18: =(C18*U18)+(C18*V18) -> 0 | X18: 0 | Y18: 0 | Z18: =(C18*X18)+(C18*Y18) -> 0 | AA18: 0 | AB18: 0 | AC18: =(C18*AA18)+(C18*AB18) -> 0 | AD18: 0 | AE18: 0 | AF18: =(F18*AD18)+(F18*AE18) -> 0 | AG18: 0 | AH18: 0 | AI18: =(I18*AG18)+(I18*AH18) -> 0 | AJ18: 0 | AK18: 0 | AL18: =(L18*AJ18)+(L18*AK18) -> 0 | AM18: =H18+K18+N18+Q18+T18+W18+Z18+AC18+AF18+AI18+AL18 -> 0
... A23: 17 | B23: Koszty rozbiórki | C23: =Kosztorys_klient!D34 -> 0 | D23: 0 | F23: 0 | G23: 0 | H23: =(G23*C23)+(C23*F23) -> 0 | I23: 0 | J23: 0 | K23: =(C23*I23)+(C23*J23) -> 0 | L23: 0 | M23: 0 | N23: =(C23*L23)+(C23*M23) -> 0 | O23: 0 | P23: 0 | Q23: =(C23*O23)+(C23*P23) -> 0 | R23: 0 | S23: 0 | T23: =(C23*R23)+(C23*S23) -> 0 | U23: 0 | V23: 0 | W23: =(C23*U23)+(C23*V23) -> 0 | X23: 0 | Y23: 0 | Z23: =(C23*X23)+(C23*Y23) -> 0 | AA23: 0 | AB23: 0 | AC23: =(C23*AA23)+(C23*AB23) -> 0 | AD23: 0 | AE23: 0 | AF23: =(F23*AD23)+(F23*AE23) -> 0 | AG23: 0 | AH23: 0 | AI23: =(I23*AG23)+(I23*AH23) -> 0 | AJ23: 0 | AK23: 0 | AL23: =(L23*AJ23)+(L23*AK23) -> 0 | AM23: =H23+K23+N23+Q23+T23+W23+Z23+AC23+AF23+AI23+AL23 -> 0
A24: 18 | B24: Inne opisowe:
A25: 19 | C25: =Kosztorys_klient!D36 -> 0 | D25: 0 | F25: 0 | G25: 0 | H25: =(G25*C25)+(C25*F25) -> 0 | I25: 0 | J25: 0 | K25: =(C25*I25)+(C25*J25) -> 0 | L25: 0 | M25: 0 | N25: =(C25*L25)+(C25*M25) -> 0 | O25: 0 | P25: 0 | Q25: =(C25*O25)+(C23*P25) -> 0 | R25: 0 | S25: 0 | T25: =(C25*R25)+(C25*S25) -> 0 | U25: 0 | V25: 0 | W25: =(C25*U25)+(C25*V25) -> 0 | X25: 0 | Y25: 0 | Z25: =(C25*X25)+(C25*Y25) -> 0 | AA25: 0 | AB25: 0 | AC25: =(C25*AA25)+(C25*AB25) -> 0 | AD25: 0 | AE25: 0 | AF25: =(F25*AD25)+(F25*AE25) -> 0 | AG25: 0 | AH25: 0 | AI25: =(I25*AG25)+(I25*AH25) -> 0 | AJ25: 0 | AK25: 0 | AL25: =(L25*AJ25)+(L25*AK25) -> 0 | AM25: =H25+K25+N25+Q25+T25+W25+Z25+AC25+AF25+AI25+AL25 -> 0
A26: 20 | C26: =Kosztorys_klient!E37 -> 0 | D26: 0 | F26: 0 | G26: 0 | H26: =(G26*C26)+(C26*F26) -> 0 | I26: 0 | J26: 0 | K26: =(C26*I26)+(C26*J26) -> 0 | L26: 0 | M26: 0 | N26: =(C26*L26)+(C26*M26) -> 0 | O26: 0 | P26: 0 | Q26: =(C26*O26)+(C24*P26) -> 0 | R26: 0 | S26: 0 | T26: =(C26*R26)+(C26*S26) -> 0 | U26: 0 | V26: 0 | W26: =(C26*U26)+(C26*V26) -> 0 | X26: 0 | Y26: 0 | Z26: =(C26*X26)+(C26*Y26) -> 0 | AA26: 0 | AB26: 0 | AC26: =(C26*AA26)+(C26*AB26) -> 0 | AD26: 0 | AE26: 0 | AF26: =(F26*AD26)+(F26*AE26) -> 0 | AG26: 0 | AH26: 0 | AI26: =(I26*AG26)+(I26*AH26) -> 0 | AJ26: 0 | AK26: 0 | AL26: =(L26*AJ26)+(L26*AK26) -> 0 | AM26: =H26+K26+N26+Q26+T26+W26+Z26+AC26+AF26+AI26+AL26 -> 0
A27: 21 | C27: =Kosztorys_klient!E38 -> 0 | D27: 0 | F27: 0 | G27: 0 | H27: =(G27*C27)+(C27*F27) -> 0 | I27: 0 | J27: 0 | K27: =(C27*I27)+(C27*J27) -> 0 | L27: 0 | M27: 0 | N27: =(C27*L27)+(C27*M27) -> 0 | O27: 0 | P27: 0 | Q27: =(C27*O27)+(C25*P27) -> 0 | R27: 0 | S27: 0 | T27: =(C27*R27)+(C27*S27) -> 0 | U27: 0 | V27: 0 | W27: =(C27*U27)+(C27*V27) -> 0 | X27: 0 | Y27: 0 | Z27: =(C27*X27)+(C27*Y27) -> 0 | AA27: 0 | AB27: 0 | AC27: =(C27*AA27)+(C27*AB27) -> 0 | AD27: 0 | AE27: 0 | AF27: =(F27*AD27)+(F27*AE27) -> 0 | AG27: 0 | AH27: 0 | AI27: =(I27*AG27)+(I27*AH27) -> 0 | AJ27: 0 | AK27: 0 | AL27: =(L27*AJ27)+(L27*AK27) -> 0 | AM27: =H27+K27+N27+Q27+T27+W27+Z27+AC27+AF27+AI27+AL27 -> 0
A28: 22 | C28: =Kosztorys_klient!D39 -> 0 | D28: 0 | F28: 0 | G28: 0 | H28: =(G28*C28)+(C28*F28) -> 0 | I28: 0 | J28: 0 | K28: =(C28*I28)+(C28*J28) -> 0 | L28: 0 | M28: 0 | N28: =(C28*L28)+(C28*M28) -> 0 | O28: 0 | P28: 0 | Q28: =(C28*O28)+(C26*P28) -> 0 | R28: 0 | S28: 0 | T28: =(C28*R28)+(C28*S28) -> 0 | U28: 0 | V28: 0 | W28: =(C28*U28)+(C28*V28) -> 0 | X28: 0 | Y28: 0 | Z28: =(C28*X28)+(C28*Y28) -> 0 | AA28: 0 | AB28: 0 | AC28: =(C28*AA28)+(C28*AB28) -> 0 | AD28: 0 | AE28: 0 | AF28: =(F28*AD28)+(F28*AE28) -> 0 | AG28: 0 | AH28: 0 | AI28: =(I28*AG28)+(I28*AH28) -> 0 | AJ28: 0 | AK28: 0 | AL28: =(L28*AJ28)+(L28*AK28) -> 0 | AM28: =H28+K28+N28+Q28+T28+W28+Z28+AC28+AF28+AI28+AL28 -> 0
A29: 23 | C29: =Kosztorys_klient!E40 -> 0 | D29: 0 | F29: 0 | G29: 0 | H29: =(G29*C29)+(C29*F29) -> 0 | I29: 0 | J29: 0 | K29: =(C29*I29)+(C29*J29) -> 0 | L29: 0 | M29: 0 | N29: =(C29*L29)+(C29*M29) -> 0 | O29: 0 | P29: 0 | Q29: =(C29*O29)+(C27*P29) -> 0 | R29: 0 | S29: 0 | T29: =(C29*R29)+(C29*S29) -> 0 | U29: 0 | V29: 0 | W29: =(C29*U29)+(C29*V29) -> 0 | X29: 0 | Y29: 0 | Z29: =(C29*X29)+(C29*Y29) -> 0 | AA29: 0 | AB29: 0 | AC29: =(C29*AA29)+(C29*AB29) -> 0 | AD29: 0 | AE29: 0 | AF29: =(F29*AD29)+(F29*AE29) -> 0 | AG29: 0 | AH29: 0 | AI29: =(I29*AG29)+(I29*AH29) -> 0 | AJ29: 0 | AK29: 0 | AL29: =(L29*AJ29)+(L29*AK29) -> 0 | AM29: =H29+K29+N29+Q29+T29+W29+Z29+AC29+AF29+AI29+AL29 -> 0
A30: 24 | C30: =Kosztorys_klient!D41 -> 0 | D30: 0 | F30: 0 | G30: 0 | H30: =(G30*C30)+(C30*F30) -> 0 | I30: 0 | J30: 0 | K30: =(C30*I30)+(C30*J30) -> 0 | L30: 0 | M30: 0 | N30: =(C30*L30)+(C30*M30) -> 0 | O30: 0 | P30: 0 | Q30: =(C30*O30)+(C28*P30) -> 0 | R30: 0 | S30: 0 | T30: =(C30*R30)+(C30*S30) -> 0 | U30: 0 | V30: 0 | W30: =(C30*U30)+(C30*V30) -> 0 | X30: 0 | Y30: 0 | Z30: =(C30*X30)+(C30*Y30) -> 0 | AA30: 0 | AB30: 0 | AC30: =(C30*AA30)+(C30*AB30) -> 0 | AD30: 0 | AE30: 0 | AF30: =(F30*AD30)+(F30*AE30) -> 0 | AG30: 0 | AH30: 0 | AI30: =(I30*AG30)+(I30*AH30) -> 0 | AJ30: 0 | AK30: 0 | AL30: =(L30*AJ30)+(L30*AK30) -> 0 | AM30: =H30+K30+N30+Q30+T30+W30+Z30+AC30+AF30+AI30+AL30 -> 0
A31: Łączny koszt prac wykończeniowych | C31: =Kosztorys_klient!D42 -> 0 | D31: 0 | F31: x | G31: x | H31: =SUM(H7:H30) -> 0 | I31: x | J31: x | K31: =SUM(K7:K30) -> 0 | L31: x | M31: x | N31: =SUM(N7:N30) -> 0 | O31: x | P31: x | Q31: =SUM(Q7:Q30) -> 0 | R31: x | S31: x | T31: =SUM(T7:T30) -> 0 | U31: x | V31: x | W31: =SUM(W7:W30) -> 0 | X31: x | Y31: x | Z31: =SUM(Z7:Z30) -> 0 | AA31: x | AB31: x | AC31: =SUM(AC7:AC30) -> 0 | AD31: x | AE31: x | AF31: =SUM(AF7:AF30) -> 0 | AG31: x | AH31: x | AI31: =SUM(AI7:AI30) -> 0 | AJ31: x | AK31: x | AL31: =SUM(AL7:AL30) -> 0 | AM31: =SUM(AM7:AM30) -> 0
A32: Planowany termin zakończenia prac | C32: =Kosztorys_klient!D43 -> 0
A38: transza nr 1 | C38: =Kosztorys_klient!D52 -> 0
A39: transza nr 2 | C39: =Kosztorys_klient!D53 -> 0
A40: transza nr 3 | C40: =Kosztorys_klient!D54 -> 0
A41: transza nr 4 | C41: =Kosztorys_klient!D55 -> 0
A42: transza nr 5 | C42: =Kosztorys_klient!D56 -> 0
A43: transza nr 6 | C43: =Kosztorys_klient!D57 -> 0
A44: transza nr 7 | C44: =Kosztorys_klient!D58 -> 0
A45: transza nr 8 | C45: =Kosztorys_klient!D59 -> 0
A46: transza nr 9 | C46: =Kosztorys_klient!D60 -> 0
A47: transza nr 10 | C47: =Kosztorys_klient!D61 -> 0
A48: suma transz | C48: =Kosztorys_klient!D62 -> 0

Sheet Akceptacja wypłaty
A1: Imię i Nazwisko Kredytobiorcy | B1: =Kosztorys_klient!D5 -> 0
A2: Adres inwestycji:
A3: =Kosztorys_klient!C7 -> Województwo: | B3: =Kosztorys_klient!D7 -> 0
A4: =Kosztorys_klient!C8 -> Powiat: | B4: =Kosztorys_klient!D8 -> 0
A5: =Kosztorys_klient!C9 -> Gmina: | B5: =Kosztorys_klient!D9 -> 0
A6: =Kosztorys_klient!C10 -> Miejscowość: | B6: =Kosztorys_klient!D10 -> 0
A7: =Kosztorys_klient!C11 -> Ulica: | B7: =Kosztorys_klient!D11 -> 0
A8: =Kosztorys_klient!C12 -> Nr Działki: | B8: =Kosztorys_klient!D12 -> 0
A9: =Kosztorys_klient!C13 -> Nr Budynku: | B9: =Kosztorys_klient!D13 -> 0
A10: =Kosztorys_klient!C14 -> Nr Lokalu: | B10: =Kosztorys_klient!D14 -> 0
B12: Transza nr I | C12: Transza nr II | D12: Transza nr III | E12: Transza nr IV | F12: Transza nr V | G12: Transza nr VI | H12: Transza nr VII | I12: Transza nr VIII | J12: Transza nr IX | K12: Transza nr X
A13: Data weryfikacji
A14: Osoba weryfikująca
A15: Kwota transzy (PLN)
A16: Akceptacja wypłaty (Tak/Nie)
A17: Uzasadnienie braku akceptacji
