Workbook

Sheet Kosztorys_Klienta
D1: Załącznik nr 3 do Instrukcji sporządzania kosztorysów oraz rozliczania transz na budowę/remont/wykończenie nieruchomości mieszkalnych
B2: WYPEŁNIA KLIENT
B4: I. DANE KLIENTA I NIERUCHOMOŚCI
B5: Imię i Nazwisko Kredytobiorcy:
C6: Adres inwestycji
C7: Województwo:
C8: Powiat:
C9: Gmina:
C10: Miejscowość:
C11: Ulica / Nr porządkowy:
C12: Nr działki ewidencyjnej:
B14: II. KOSZTORYS
B15: Lp. | C15: Pozycje kosztorysowe | D15: Koszty poniesione (informacyjnie dla Banku) | E15: Koszty do poniesienia
B16: 1 | C16: Przygotowanie terenu | D16: 0 | E16: 0
B17: 2 | C17: Uzbrojenie terenu, w tym przyłącza: kanalizacyjne, wodociągowe, elektryczne, gazowe itd. | D17: 0 | E17: 0
B18: 3 | C18: Roboty ziemne | D18: 0 | E18: 0
B19: 4 | C19: Fundamenty i ściany fundamentowe | D19: 0 | E19: 0
B20: 5 | C20: Piwnice i strop nad podpiwniczeniem | D20: 0 | E20: 0
B21: 6 | C21: Izolacja pozioma i pionowa parteru | D21: 0 | E21: 0
B22: 7 | C22: Ściany zewnętrzne | D22: 0 | E22: 0
B23: 8 | C23: Stropy wewnętrzne | D23: 0 | E23: 0
B24: 9 | C24: Schody | D24: 0 | E24: 0
B25: 10 | C25: Ściany wewnętrzne | D25: 0 | E25: 0
B26: 11 | C26: Izolacja termiczna dachu (ocieplenie dachu) | D26: 0 | E26: 0
B27: 12 | C27: Dach - konstrukcja | D27: 0 | E27: 0
... B30: 15 | C30: Drzwi zewnętrzne i garażowe | D30: 0 | E30: 0
B31: 16 | C31: Instalacje wewnętrzne, w tym:
B32: 16.1 | C32: Wodno-kanalizacyjna | D32: 0 | E32: 0
B33: 16.2 | C33: Gazowa | D33: 0 | E33: 0
B34: 16.3 | C34: Elektryczna i teletechniczna (np. okablowanie, osprzęt, instalacja telefoniczna, alarmowa, domofonowa itp.) | D34: 0 | E34: 0
B35: 16.4 | C35: C.O. (w tym piec i grzejniki) | D35: 0 | E35: 0
B36: 17 | C36: Tynki wewnętrzne | D36: 0 | E36: 0
B37: 18 | C37: Posadzki (wylewki) | D37: 0 | E37: 0
B38: 19 | C38: Wykończenie zewnętrzne -elewacja (tynki, termoizolacja-ocieplenie budynku) | D38: 0 | E38: 0
B39: 20 | C39: Pozostałe:
B40: 20.1 | C40: Mała architektura ( np. ogrodzenie, kostka brukowa itp.) | D40: 0 | E40: 0
B41: 20.2 | C41: Przygotowanie dokumentcji projektowej | D41: 0 | E41: 0
B42: 21 | C42: Inne opisowe:
B43: 21.1 | D43: 0 | E43: 0
B44: 21.2 | D44: 0 | E44: 0
...

Sheet Kontrola wypłaty transz
H4: ROZLICZENIE TRANSZ w zakresie kosztów do FINANSOWANIA (BEZ REFINANSOWANIA I GRUNTU)
B5: Lp. | C5: Pozycje kosztorysowe | D5: Koszty poniesione (informacyjnie dla Banku) | E5: Koszty do poniesienia | F5: faktury | H5: I transza 1 wypłata (%) | I5: I transza 2 wypłata (%) | K5: II transza (%) | L5: II transza 2 wypłata (%) | N5: III transza (%) | O5: III transza 2 wypłata (%) | Q5: IV transza (%) | R5: IV transza 2 wypłata (%) | T5: V transza (%) | U5: V transza 2 wypłata (%) | W5: VI transza (%) | X5: VI transza 2 wypłata (%) | Z5: VII transza (%) | AA5: VII transza 2 wypłata (%) | AC5: VIII transza (%) | AD5: VIII transza 2 wypłata (%) | AF5: IX transza (%) | AG5: IX transza 2 wypłata (%) | AI5: X transza (%) | AJ5: X transza 2 wypłata (%) | AL5: KONTROLA POPRAWNOŚCI
B6: 1 | C6: Przygotowanie terenu | D6: =Kosztorys_Klienta!D16 -> 0 | E6: =Kosztorys_Klienta!E16 -> 0 | F6: 0 | H6: 0.5 | I6: 0.5 | J6: =(E6*H6)+(I6*E6) -> 0 | K6: 0.5 | L6: 0.5 | M6: =(E6*K6)+(L6*E6) -> 0 | N6: 0.5 | O6: 0.5 | P6: =(E6*N6)+(O6*E6) -> 0 | Q6: 0.5 | R6: 0.5 | S6: =(E6*Q6)+(R6*E6) -> 0 | T6: 0.5 | U6: 0.5 | V6: =(E6*T6)+(U6*E6) -> 0 | W6: 0.5 | X6: 0.5 | Y6: =(E6*W6)+(X6*E6) -> 0 | Z6: 0.5 | AA6: 0.5 | AB6: =(E6*Z6)+(AA6*E6) -> 0 | AC6: 0.5 | AD6: 0.5 | AE6: =(E6*AC6)+(AD6*E6) -> 0 | AF6: 0.5 | AG6: 0.5 | AH6: =(E6*AF6)+(AG6*E6) -> 0 | AI6: 0.5 | AJ6: 0.5 | AK6: =(E6*AI6)+(AJ6*E6) -> 0 | AL6: =J6+M6+P6+S6+V6+Y6+AB6+AE6+AH6+AK6 -> 0
B7: 2 | C7: Uzbrojenie terenu, w tym przyłącza: kanalizacyjne, wodociągowe, elektryczne, gazowe itd. | D7: =Kosztorys_Klienta!D17 -> 0 | E7: =Kosztorys_Klienta!E17 -> 0 | F7: 0 | H7: 0.5 | I7: 0.5 | J7: =(E7*H7)+(I7*E7) -> 0 | K7: 0.5 | L7: 0.5 | M7: =(E7*K7)+(L7*E7) -> 0 | N7: 0.5 | O7: 0.5 | P7: =(E7*N7)+(O7*E7) -> 0 | Q7: 0.5 | R7: 0.5 | S7: =(E7*Q7)+(R7*E7) -> 0 | T7: 0.5 | U7: 0.5 | V7: =(E7*T7)+(U7*E7) -> 0 | W7: 0.5 | X7: 0.5 | Y7: =(E7*W7)+(X7*E7) -> 0 | Z7: 0.5 | AA7: 0.5 | AB7: =(E7*Z7)+(AA7*E7) -> 0 | AC7: 0.5 | AD7: 0.5 | AE7: =(E7*AC7)+(AD7*E7) -> 0 | AF7: 0.5 | AG7: 0.5 | AH7: =(E7*AF7)+(AG7*E7) -> 0 | AI7: 0.5 | AJ7: 0.5 | AK7: =(E7*AI7)+(AJ7*E7) -> 0 | AL7: =J7+M7+P7+S7+V7+Y7+AB7+AE7+AH7+AK7 -> 0
B8: 3 | C8: Roboty ziemne | D8: =Kosztorys_Klienta!D18 -> 0 | E8: =Kosztorys_Klienta!E18 -> 0 | F8: 0 | H8: 0.5 | I8: 0.5 | J8: =(E8*H8)+(I8*E8) -> 0 | K8: 0.5 | L8: 0.5 | M8: =(E8*K8)+(L8*E8) -> 0 | N8: 0.5 | O8: 0.5 | P8: =(E8*N8)+(O8*E8) -> 0 | Q8: 0.5 | R8: 0.5 | S8: =(E8*Q8)+(R8*E8) -> 0 | T8: 0.5 | U8: 0.5 | V8: =(E8*T8)+(U8*E8) -> 0 | W8: 0.5 | X8: 0.5 | Y8: =(E8*W8)+(X8*E8) -> 0 | Z8: 0.5 | AA8: 0.5 | AB8: =(E8*Z8)+(AA8*E8) -> 0 | AC8: 0.5 | AD8: 0.5 | AE8: =(E8*AC8)+(AD8*E8) -> 0 | AF8: 0.5 | AG8: 0.5 | AH8: =(E8*AF8)+(AG8*E8) -> 0 | AI8: 0.5 | AJ8: 0.5 | AK8: =(E8*AI8)+(AJ8*E8) -> 0 | AL8: =J8+M8+P8+S8+V8+Y8+AB8+AE8+AH8+AK8 -> 0
B9: 4 | C9: Fundamenty i ściany fundamentowe | D9: =Kosztorys_Klienta!D19 -> 0 | E9: =Kosztorys_Klienta!E19 -> 0 | F9: 0 | H9: 0.5 | I9: 0.5 | J9: =(E9*H9)+(I9*E9) -> 0 | K9: 0.5 | L9: 0.5 | M9: =(E9*K9)+(L9*E9) -> 0 | N9: 0.5 | O9: 0.5 | P9: =(E9*N9)+(O9*E9) -> 0 | Q9: 0.5 | R9: 0.5 | S9: =(E9*Q9)+(R9*E9) -> 0 | T9: 0.5 | U9: 0.5 | V9: =(E9*T9)+(U9*E9) -> 0 | W9: 0.5 | X9: 0.5 | Y9: =(E9*W9)+(X9*E9) -> 0 | Z9: 0.5 | AA9: 0.5 | AB9: =(E9*Z9)+(AA9*E9) -> 0 | AC9: 0.5 | AD9: 0.5 | AE9: =(E9*AC9)+(AD9*E9) -> 0 | AF9: 0.5 | AG9: 0.5 | AH9: =(E9*AF9)+(AG9*E9) -> 0 | AI9: 0.5 | AJ9: 0.5 | AK9: =(E9*AI9)+(AJ9*E9) -> 0 | AL9: =J9+M9+P9+S9+V9+Y9+AB9+AE9+AH9+AK9 -> 0
B10: 5 | C10: Piwnice i strop nad podpiwniczeniem | D10: =Kosztorys_Klienta!D20 -> 0 | E10: =Kosztorys_Klienta!E20 -> 0 | F10: 0 | H10: 0.5 | I10: 0.5 | J10: =(E10*H10)+(I10*E10) -> 0 | K10: 0.5 | L10: 0.5 | M10: =(E10*K10)+(L10*E10) -> 0 | N10: 0.5 | O10: 0.5 | P10: =(E10*N10)+(O10*E10) -> 0 | Q10: 0.5 | R10: 0.5 | S10: =(E10*Q10)+(R10*E10) -> 0 | T10: 0.5 | U10: 0.5 | V10: =(E10*T10)+(U10*E10) -> 0 | W10: 0.5 | X10: 0.5 | Y10: =(E10*W10)+(X10*E10) -> 0 | Z10: 0.5 | AA10: 0.5 | AB10: =(E10*Z10)+(AA10*E10) -> 0 | AC10: 0.5 | AD10: 0.5 | AE10: =(E10*AC10)+(AD10*E10) -> 0 | AF10: 0.5 | AG10: 0.5 | AH10: =(E10*AF10)+(AG10*E10) -> 0 | AI10: 0.5 | AJ10: 0.5 | AK10: =(E10*AI10)+(AJ10*E10) -> 0 | AL10: =J10+M10+P10+S10+V10+Y10+AB10+AE10+AH10+AK10 -> 0
B11: 6 | C11: Izolacja pozioma i pionowa parteru | D11: =Kosztorys_Klienta!D21 -> 0 | E11: =Kosztorys_Klienta!E21 -> 0 | F11: 0 | H11: 0.5 | I11: 0.5 | J11: =(E11*H11)+(I11*E11) -> 0 | K11: 0.5 | L11: 0.5 | M11: =(E11*K11)+(L11*E11) -> 0 | N11: 0.5 | O11: 0.5 | P11: =(E11*N11)+(O11*E11) -> 0 | Q11: 0.5 | R11: 0.5 | S11: =(E11*Q11)+(R11*E11) -> 0 | T11: 0.5 | U11: 0.5 | V11: =(E11*T11)+(U11*E11) -> 0 | W11: 0.5 | X11: 0.5 | Y11: =(E11*W11)+(X11*E11) -> 0 | Z11: 0.5 | AA11: 0.5 | AB11: =(E11*Z11)+(AA11*E11) -> 0 | AC11: 0.5 | AD11: 0.5 | AE11: =(E11*AC11)+(AD11*E11) -> 0 | AF11: 0.5 | AG11: 0.5 | AH11: =(E11*AF11)+(AG11*E11) -> 0 | AI11: 0.5 | AJ11: 0.5 | AK11: =(E11*AI11)+(AJ11*E11) -> 0 | AL11: =J11+M11+P11+S11+V11+Y11+AB11+AE11+AH11+AK11 -> 0
B12: 7 | C12: Ściany zewnętrzne | D12: =Kosztorys_Klienta!D22 -> 0 | E12: =Kosztorys_Klienta!E22 -> 0 | F12: 0 | H12: 0.5 | I12: 0.5 | J12: =(E12*H12)+(I12*E12) -> 0 | K12: 0.5 | L12: 0.5 | M12: =(E12*K12)+(L12*E12) -> 0 | N12: 0.5 | O12: 0.5 | P12: =(E12*N12)+(O12*E12) -> 0 | Q12: 0.5 | R12: 0.5 | S12: =(E12*Q12)+(R12*E12) -> 0 | T12: 0.5 | U12: 0.5 | V12: =(E12*T12)+(U12*E12) -> 0 | W12: 0.5 | X12: 0.5 | Y12: =(E12*W12)+(X12*E12) -> 0 | Z12: 0.5 | AA12: 0.5 | AB12: =(E12*Z12)+(AA12*E12) -> 0 | AC12: 0.5 | AD12: 0.5 | AE12: =(E12*AC12)+(AD12*E12) -> 0 | AF12: 0.5 | AG12: 0.5 | AH12: =(E12*AF12)+(AG12*E12) -> 0 | AI12: 0.5 | AJ12: 0.5 | AK12: =(E12*AI12)+(AJ12*E12) -> 0 | AL12: =J12+M12+P12+S12+V12+Y12+AB12+AE12+AH12+AK12 -> 0
B13: 8 | C13: Stropy wewnętrzne | D13: =Kosztorys_Klienta!D23 -> 0 | E13: =Kosztorys_Klienta!E23 -> 0 | F13: 0 | H13: 0.5 | I13: 0.5 | J13: =(E13*H13)+(I13*E13) -> 0 | K13: 0.5 | L13: 0.5 | M13: =(E13*K13)+(L13*E13) -> 0 | N13: 0.5 | O13: 0.5 | P13: =(E13*N13)+(O13*E13) -> 0 | Q13: 0.5 | R13: 0.5 | S13: =(E13*Q13)+(R13*E13) -> 0 | T13: 0.5 | U13: 0.5 | V13: =(E13*T13)+(U13*E13) -> 0 | W13: 0.5 | X13: 0.5 | Y13: =(E13*W13)+(X13*E13) -> 0 | Z13: 0.5 | AA13: 0.5 | AB13: =(E13*Z13)+(AA13*E13) -> 0 | AC13: 0.5 | AD13: 0.5 | AE13: =(E13*AC13)+(AD13*E13) -> 0 | AF13: 0.5 | AG13: 0.5 | AH13: =(E13*AF13)+(AG13*E13) -> 0 | AI13: 0.5 | AJ13: 0.5 | AK13: =(E13*AI13)+(AJ13*E13) -> 0 | AL13: =J13+M13+P13+S13+V13+Y13+AB13+AE13+AH13+AK13 -> 0
B14: 9 | C14: Schody | D14: =Kosztorys_Klienta!D24 -> 0 | E14: =Kosztorys_Klienta!E24 -> 0 | F14: 0 | H14: 0.5 | I14: 0.5 | J14: =(E14*H14)+(I14*E14) -> 0 | K14: 0.5 | L14: 0.5 | M14: =(E14*K14)+(L14*E14) -> 0 | N14: 0.5 | O14: 0.5 | P14: =(E14*N14)+(O14*E14) -> 0 | Q14: 0.5 | R14: 0.5 | S14: =(E14*Q14)+(R14*E14) -> 0 | T14: 0.5 | U14: 0.5 | V14: =(E14*T14)+(U14*E14) -> 0 | W14: 0.5 | X14: 0.5 | Y14: =(E14*W14)+(X14*E14) -> 0 | Z14: 0.5 | AA14: 0.5 | AB14: =(E14*Z14)+(AA14*E14) -> 0 | AC14: 0.5 | AD14: 0.5 | AE14: =(E14*AC14)+(AD14*E14) -> 0 | AF14: 0.5 | AG14: 0.5 | AH14: =(E14*AF14)+(AG14*E14) -> 0 | AI14: 0.5 | AJ14: 0.5 | AK14: =(E14*AI14)+(AJ14*E14) -> 0 | AL14: =J14+M14+P14+S14+V14+Y14+AB14+AE14+AH14+AK14 -> 0
B15: 10 | C15: Ściany wewnętrzne | D15: =Kosztorys_Klienta!D25 -> 0 | E15: =Kosztorys_Klienta!E25 -> 0 | F15: 0 | H15: 0.5 | I15: 0.5 | J15: =(E15*H15)+(I15*E15) -> 0 | K15: 0.5 | L15: 0.5 | M15: =(E15*K15)+(L15*E15) -> 0 | N15: 0.5 | O15: 0.5 | P15: =(E15*N15)+(O15*E15) -> 0 | Q15: 0.5 | R15: 0.5 | S15: =(E15*Q15)+(R15*E15) -> 0 | T15: 0.5 | U15: 0.5 | V15: =(E15*T15)+(U15*E15) -> 0 | W15: 0.5 | X15: 0.5 | Y15: =(E15*W15)+(X15*E15) -> 0 | Z15: 0.5 | AA15: 0.5 | AB15: =(E15*Z15)+(AA15*E15) -> 0 | AC15: 0.5 | AD15: 0.5 | AE15: =(E15*AC15)+(AD15*E15) -> 0 | AF15: 0.5 | AG15: 0.5 | AH15: =(E15*AF15)+(AG15*E15) -> 0 | AI15: 0.5 | AJ15: 0.5 | AK15: =(E15*AI15)+(AJ15*E15) -> 0 | AL15: =J15+M15+P15+S15+V15+Y15+AB15+AE15+AH15+AK15 -> 0
B16: 11 | C16: Izolacja termiczna dachu (ocieplenie dachu) | D16: =Kosztorys_Klienta!D26 -> 0 | E16: =Kosztorys_Klienta!E26 -> 0 | F16: 0 | H16: 0.5 | I16: 0.5 | J16: =(E16*H16)+(I16*E16) -> 0 | K16: 0.5 | L16: 0.5 | M16: =(E16*K16)+(L16*E16) -> 0 | N16: 0.5 | O16: 0.5 | P16: =(E16*N16)+(O16*E16) -> 0 | Q16: 0.5 | R16: 0.5 | S16: =(E16*Q16)+(R16*E16) -> 0 | T16: 0.5 | U16: 0.5 | V16: =(E16*T16)+(U16*E16) -> 0 | W16: 0.5 | X16: 0.5 | Y16: =(E16*W16)+(X16*E16) -> 0 | Z16: 0.5 | AA16: 0.5 | AB16: =(E16*Z16)+(AA16*E16) -> 0 | AC16: 0.5 | AD16: 0.5 | AE16: =(E16*AC16)+(AD16*E16) -> 0 | AF16: 0.5 | AG16: 0.5 | AH16: =(E16*AF16)+(AG16*E16) -> 0 | AI16: 0.5 | AJ16: 0.5 | AK16: =(E16*AI16)+(AJ16*E16) -> 0 | AL16: =J16+M16+P16+S16+V16+Y16+AB16+AE16+AH16+AK16 -> 0
B17: 12 | C17: Dach - konstrukcja | D17: =Kosztorys_Klienta!D27 -> 0 | E17: =Kosztorys_Klienta!E27 -> 0 | F17: 0 | H17: 0.5 | I17: 0.5 | J17: =(E17*H17)+(I17*E17) -> 0 | K17: 0.5 | L17: 0.5 | M17: =(E17*K17)+(L17*E17) -> 0 | N17: 0.5 | O17: 0.5 | P17: =(E17*N17)+(O17*E17) -> 0 | Q17: 0.5 | R17: 0.5 | S17: =(E17*Q17)+(R17*E17) -> 0 | T17: 0.5 | U17: 0.5 | V17: =(E17*T17)+(U17*E17) -> 0 | W17: 0.5 | X17: 0.5 | Y17: =(E17*W17)+(X17*E17) -> 0 | Z17: 0.5 | AA17: 0.5 | AB17: =(E17*Z17)+(AA17*E17) -> 0 | AC17: 0.5 | AD17: 0.5 | AE17: =(E17*AC17)+(AD17*E17) -> 0 | AF17: 0.5 | AG17: 0.5 | AH17: =(E17*AF17)+(AG17*E17) -> 0 | AI17: 0.5 | AJ17: 0.5 | AK17: =(E17*AI17)+(AJ17*E17) -> 0 | AL17: =J17+M17+P17+S17+V17+Y17+AB17+AE17+AH17+AK17 -> 0
... B20: 15 | C20: Drzwi zewnętrzne i garażowe | D20: =Kosztorys_Klienta!D30 -> 0 | E20: =Kosztorys_Klienta!E30 -> 0 | F20: 0 | H20: 0.5 | I20: 0.5 | J20: =(E20*H20)+(I20*E20) -> 0 | K20: 0.5 | L20: 0.5 | M20: =(E20*K20)+(L20*E20) -> 0 | N20: 0.5 | O20: 0.5 | P20: =(E20*N20)+(O20*E20) -> 0 | Q20: 0.5 | R20: 0.5 | S20: =(E20*Q20)+(R20*E20) -> 0 | T20: 0.5 | U20: 0.5 | V20: =(E20*T20)+(U20*E20) -> 0 | W20: 0.5 | X20: 0.5 | Y20: =(E20*W20)+(X20*E20) -> 0 | Z20: 0.5 | AA20: 0.5 | AB20: =(E20*Z20)+(AA20*E20) -> 0 | AC20: 0.5 | AD20: 0.5 | AE20: =(E20*AC20)+(AD20*E20) -> 0 | AF20: 0.5 | AG20: 0.5 | AH20: =(E20*AF20)+(AG20*E20) -> 0 | AI20: 0.5 | AJ20: 0.5 | AK20: =(E20*AI20)+(AJ20*E20) -> 0 | AL20: =J20+M20+P20+S20+V20+Y20+AB20+AE20+AH20+AK20 -> 0
AL21: =J21+M21+P21+S21+V21+Y21+AB21+AE21+AH21+AK21 -> 0
B22: 16.1 | C22: Wodno-kanalizacyjna | D22: =Kosztorys_Klienta!D32 -> 0 | E22: =Kosztorys_Klienta!E32 -> 0 | F22: 0 | H22: 0.5 | I22: 0.5 | J22: =(E22*H22)+(I22*E22) -> 0 | K22: 0.5 | L22: 0.5 | M22: =(E22*K22)+(L22*E22) -> 0 | N22: 0.5 | O22: 0.5 | P22: =(E22*N22)+(O22*E22) -> 0 | Q22: 0.5 | R22: 0.5 | S22: =(E22*Q22)+(R22*E22) -> 0 | T22: 0.5 | U22: 0.5 | V22: =(E22*T22)+(U22*E22) -> 0 | W22: 0.5 | X22: 0.5 | Y22: =(E22*W22)+(X22*E22) -> 0 | Z22: 0.5 | AA22: 0.5 | AB22: =(E22*Z22)+(AA22*E22) -> 0 | AC22: 0.5 | AD22: 0.5 | AE22: =(E22*AC22)+(AD22*E22) -> 0 | AF22: 0.5 | AG22: 0.5 | AH22: =(E22*AF22)+(AG22*E22) -> 0 | AI22: 0.5 | AJ22: 0.5 | AK22: =(E22*AI22)+(AJ22*E22) -> 0 | AL22: =J22+M22+P22+S22+V22+Y22+AB22+AE22+AH22+AK22 -> 0
B23: 16.2 | C23: Gazowa | D23: =Kosztorys_Klienta!D33 -> 0 | E23: =Kosztorys_Klienta!E33 -> 0 | F23: 0 | H23: 0.5 | I23: 0.5 | J23: =(E23*H23)+(I23*E23) -> 0 | K23: 0.5 | L23: 0.5 | M23: =(E23*K23)+(L23*E23) -> 0 | N23: 0.5 | O23: 0.5 | P23: =(E23*N23)+(O23*E23) -> 0 | Q23: 0.5 | R23: 0.5 | S23: =(E23*Q23)+(R23*E23) -> 0 | T23: 0.5 | U23: 0.5 | V23: =(E23*T23)+(U23*E23) -> 0 | W23: 0.5 | X23: 0.5 | Y23: =(E23*W23)+(X23*E23) -> 0 | Z23: 0.5 | AA23: 0.5 | AB23: =(E23*Z23)+(AA23*E23) -> 0 | AC23: 0.5 | AD23: 0.5 | AE23: =(E23*AC23)+(AD23*E23) -> 0 | AF23: 0.5 | AG23: 0.5 | AH23: =(E23*AF23)+(AG23*E23) -> 0 | AI23: 0.5 | AJ23: 0.5 | AK23: =(E23*AI23)+(AJ23*E23) -> 0 | AL23: =J23+M23+P23+S23+V23+Y23+AB23+AE23+AH23+AK23 -> 0
B24: 16.3 | C24: Elektryczna i teletechniczna (np. okablowanie, osprzęt, instalacja telefoniczna, alarmowa, domofonowa itp.) | D24: =Kosztorys_Klienta!D34 -> 0 | E24: =Kosztorys_Klienta!E34 -> 0 | F24: 0 | H24: 0.5 | I24: 0.5 | J24: =(E24*H24)+(I24*E24) -> 0 | K24: 0.5 | L24: 0.5 | M24: =(E24*K24)+(L24*E24) -> 0 | N24: 0.5 | O24: 0.5 | P24: =(E24*N24)+(O24*E24) -> 0 | Q24: 0.5 | R24: 0.5 | S24: =(E24*Q24)+(R24*E24) -> 0 | T24: 0.5 | U24: 0.5 | V24: =(E24*T24)+(U24*E24) -> 0 | W24: 0.5 | X24: 0.5 | Y24: =(E24*W24)+(X24*E24) -> 0 | Z24: 0.5 | AA24: 0.5 | AB24: =(E24*Z24)+(AA24*E24) -> 0 | AC24: 0.5 | AD24: 0.5 | AE24: =(E24*AC24)+(AD24*E24) -> 0 | AF24: 0.5 | AG24: 0.5 | AH24: =(E24*AF24)+(AG24*E24) -> 0 | AI24: 0.5 | AJ24: 0.5 | AK24: =(E24*AI24)+(AJ24*E24) -> 0 | AL24: =J24+M24+P24+S24+V24+Y24+AB24+AE24+AH24+AK24 -> 0
B25: 16.4 | C25: C.O. (w tym piec i grzejniki) | D25: =Kosztorys_Klienta!D35 -> 0 | E25: =Kosztorys_Klienta!E35 -> 0 | F25: 0 | H25: 0.5 | I25: 0.5 | J25: =(E25*H25)+(I25*E25) -> 0 | K25: 0.5 | L25: 0.5 | M25: =(E25*K25)+(L25*E25) -> 0 | N25: 0.5 | O25: 0.5 | P25: =(E25*N25)+(O25*E25) -> 0 | Q25: 0.5 | R25: 0.5 | S25: =(E25*Q25)+(R25*E25) -> 0 | T25: 0.5 | U25: 0.5 | V25: =(E25*T25)+(U25*E25) -> 0 | W25: 0.5 | X25: 0.5 | Y25: =(E25*W25)+(X25*E25) -> 0 | Z25: 0.5 | AA25: 0.5 | AB25: =(E25*Z25)+(AA25*E25) -> 0 | AC25: 0.5 | AD25: 0.5 | AE25: =(E25*AC25)+(AD25*E25) -> 0 | AF25: 0.5 | AG25: 0.5 | AH25: =(E25*AF25)+(AG25*E25) -> 0 | AI25: 0.5 | AJ25: 0.5 | AK25: =(E25*AI25)+(AJ25*E25) -> 0 | AL25: =J25+M25+P25+S25+V25+Y25+AB25+AE25+AH25+AK25 -> 0
B26: 17 | C26: Tynki wewnętrzne | D26: =Kosztorys_Klienta!D36 -> 0 | E26: =Kosztorys_Klienta!E36 -> 0 | F26: 0 | H26: 0.5 | I26: 0.5 | J26: =(E26*H26)+(I26*E26) -> 0 | K26: 0.5 | L26: 0.5 | M26: =(E26*K26)+(L26*E26) -> 0 | N26: 0.5 | O26: 0.5 | P26: =(E26*N26)+(O26*E26) -> 0 | Q26: 0.5 | R26: 0.5 | S26: =(E26*Q26)+(R26*E26) -> 0 | T26: 0.5 | U26: 0.5 | V26: =(E26*T26)+(U26*E26) -> 0 | W26: 0.5 | X26: 0.5 | Y26: =(E26*W26)+(X26*E26) -> 0 | Z26: 0.5 | AA26: 0.5 | AB26: =(E26*Z26)+(AA26*E26) -> 0 | AC26: 0.5 | AD26: 0.5 | AE26: =(E26*AC26)+(AD26*E26) -> 0 | AF26: 0.5 | AG26: 0.5 | AH26: =(E26*AF26)+(AG26*E26) -> 0 | AI26: 0.5 | AJ26: 0.5 | AK26: =(E26*AI26)+(AJ26*E26) -> 0 | AL26: =J26+M26+P26+S26+V26+Y26+AB26+AE26+AH26+AK26 -> 0
B27: 18 | C27: Posadzki (wylewki) | D27: =Kosztorys_Klienta!D37 -> 0 | E27: =Kosztorys_Klienta!E37 -> 0 | F27: 0 | H27: 0.5 | I27: 0.5 | J27: =(E27*H27)+(I27*E27) -> 0 | K27: 0.5 | L27: 0.5 | M27: =(E27*K27)+(L27*E27) -> 0 | N27: 0.5 | O27: 0.5 | P27: =(E27*N27)+(O27*E27) -> 0 | Q27: 0.5 | R27: 0.5 | S27: =(E27*Q27)+(R27*E27) -> 0 | T27: 0.5 | U27: 0.5 | V27: =(E27*T27)+(U27*E27) -> 0 | W27: 0.5 | X27: 0.5 | Y27: =(E27*W27)+(X27*E27) -> 0 | Z27: 0.5 | AA27: 0.5 | AB27: =(E27*Z27)+(AA27*E27) -> 0 | AC27: 0.5 | AD27: 0.5 | AE27: =(E27*AC27)+(AD27*E27) -> 0 | AF27: 0.5 | AG27: 0.5 | AH27: =(E27*AF27)+(AG27*E27) -> 0 | AI27: 0.5 | AJ27: 0.5 | AK27: =(E27*AI27)+(AJ27*E27) -> 0 | AL27: =J27+M27+P27+S27+V27+Y27+AB27+AE27+AH27+AK27 -> 0
B28: 19 | C28: Wykończenie zewnętrzne -elewacja (tynki, termoizolacja-ocieplenie budynku) | D28: =Kosztorys_Klienta!D38 -> 0 | E28: =Kosztorys_Klienta!E38 -> 0 | F28: 0 | H28: 0.5 | I28: 0.5 | J28: =(E28*H28)+(I28*E28) -> 0 | K28: 0.5 | L28: 0.5 | M28: =(E28*K28)+(L28*E28) -> 0 | N28: 0.5 | O28: 0.5 | P28: =(E28*N28)+(O28*E28) -> 0 | Q28: 0.5 | R28: 0.5 | S28: =(E28*Q28)+(R28*E28) -> 0 | T28: 0.5 | U28: 0.5 | V28: =(E28*T28)+(U28*E28) -> 0 | W28: 0.5 | X28: 0.5 | Y28: =(E28*W28)+(X28*E28) -> 0 | Z28: 0.5 | AA28: 0.5 | AB28: =(E28*Z28)+(AA28*E28) -> 0 | AC28: 0.5 | AD28: 0.5 | AE28: =(E28*AC28)+(AD28*E28) -> 0 | AF28: 0.5 | AG28: 0.5 | AH28: =(E28*AF28)+(AG28*E28) -> 0 | AI28: 0.5 | AJ28: 0.5 | AK28: =(E28*AI28)+(AJ28*E28) -> 0 | AL28: =J28+M28+P28+S28+V28+Y28+AB28+AE28+AH28+AK28 -> 0
AL29: =J29+M29+P29+S29+V29+Y29+AB29+AE29+AH29+AK29 -> 0
B30: 20.1 | C30: Mała architektura ( np. ogrodzenie, kostka brukowa itp.) | D30: =Kosztorys_Klienta!D40 -> 0 | E30: =Kosztorys_Klienta!E40 -> 0 | F30: 0 | H30: 0.5 | I30: 0.5 | J30: =(E30*H30)+(I30*E30) -> 0 | K30: 0.5 | L30: 0.5 | M30: =(E30*K30)+(L30*E30) -> 0 | N30: 0.5 | O30: 0.5 | P30: =(E30*N30)+(O30*E30) -> 0 | Q30: 0.5 | R30: 0.5 | S30: =(E30*Q30)+(R30*E30) -> 0 | T30: 0.5 | U30: 0.5 | V30: =(E30*T30)+(U30*E30) -> 0 | W30: 0.5 | X30: 0.5 | Y30: =(E30*W30)+(X30*E30) -> 0 | Z30: 0.5 | AA30: 0.5 | AB30: =(E30*Z30)+(AA30*E30) -> 0 | AC30: 0.5 | AD30: 0.5 | AE30: =(E30*AC30)+(AD30*E30) -> 0 | AF30: 0.5 | AG30: 0.5 | AH30: =(E30*AF30)+(AG30*E30) -> 0 | AI30: 0.5 | AJ30: 0.5 | AK30: =(E30*AI30)+(AJ30*E30) -> 0 | AL30: =J30+M30+P30+S30+V30+Y30+AB30+AE30+AH30+AK30 -> 0
B31: 20.2 | C31: Przygotowanie dokumentcji projektowej | D31: =Kosztorys_Klienta!D41 -> 0 | E31: =Kosztorys_Klienta!E41 -> 0 | F31: 0 | H31: 0.5 | I31: 0.5 | J31: =(E31*H31)+(I31*E31) -> 0 | K31: 0.5 | L31: 0.5 | M31: =(E31*K31)+(L31*E31) -> 0 | N31: 0.5 | O31: 0.5 | P31: =(E31*N31)+(O31*E31) -> 0 | Q31: 0.5 | R31: 0.5 | S31: =(E31*Q31)+(R31*E31) -> 0 | T31: 0.5 | U31: 0.5 | V31: =(E31*T31)+(U31*E31) -> 0 | W31: 0.5 | X31: 0.5 | Y31: =(E31*W31)+(X31*E31) -> 0 | Z31: 0.5 | AA31: 0.5 | AB31: =(E31*Z31)+(AA31*E31) -> 0 | AC31: 0.5 | AD31: 0.5 | AE31: =(E31*AC31)+(AD31*E31) -> 0 | AF31: 0.5 | AG31: 0.5 | AH31: =(E31*AF31)+(AG31*E31) -> 0 | AI31: 0.5 | AJ31: 0.5 | AK31: =(E31*AI31)+(AJ31*E31) -> 0 | AL31: =J31+M31+P31+S31+V31+Y31+AB31+AE31+AH31+AK31 -> 0
AL32: =J32+M32+P32+S32+V32+Y32+AB32+AE32+AH32+AK32 -> 0
B33: 21.1 | D33: =Kosztorys_Klienta!D43 -> 0 | E33: =Kosztorys_Klienta!E43 -> 0 | F33: 0 | H33: 0.5 | I33: 0.5 | J33: =(E33*H33)+(I33*E33) -> 0 | K33: 0.5 | L33: 0.5 | M33: =(E33*K33)+(L33*E33) -> 0 | N33: 0.5 | O33: 0.5 | P33: =(E33*N33)+(O33*E33) -> 0 | Q33: 0.5 | R33: 0.5 | S33: =(E33*Q33)+(R33*E33) -> 0 | T33: 0.5 | U33: 0.5 | V33: =(E33*T33)+(U33*E33) -> 0 | W33: 0.5 | X33: 0.5 | Y33: =(E33*W33)+(X33*E33) -> 0 | Z33: 0.5 | AA33: 0.5 | AB33: =(E33*Z33)+(AA33*E33) -> 0 | AC33: 0.5 | AD33: 0.5 | AE33: =(E33*AC33)+(AD33*E33) -> 0 | AF33: 0.5 | AG33: 0.5 | AH33: =(E33*AF33)+(AG33*E33) -> 0 | AI33: 0.5 | AJ33: 0.5 | AK33: =(E33*AI33)+(AJ33*E33) -> 0 | AL33: =J33+M33+P33+S33+V33+Y33+AB33+AE33+AH33+AK33 -> 0
B34: 21.2 | D34: =Kosztorys_Klienta!D44 -> 0 | E34: =Kosztorys_Klienta!E44 -> 0 | F34: 0 | H34: 0.5 | I34: 0.5 | J34: =(E34*H34)+(I34*E34) -> 0 | K34: 0.5 | L34: 0.5 | M34: =(E34*K34)+(L34*E34) -> 0 | N34: 0.5 | O34: 0.5 | P34: =(E34*N34)+(O34*E34) -> 0 | Q34: 0.5 | R34: 0.5 | S34: =(E34*Q34)+(R34*E34) -> 0 | T34: 0.5 | U34: 0.5 | V34: =(E34*T34)+(U34*E34) -> 0 | W34: 0.5 | X34: 0.5 | Y34: =(E34*W34)+(X34*E34) -> 0 | Z34: 0.5 | AA34: 0.5 | AB34: =(E34*Z34)+(AA34*E34) -> 0 | AC34: 0.5 | AD34: 0.5 | AE34: =(E34*AC34)+(AD34*E34) -> 0 | AF34: 0.5 | AG34: 0.5 | AH34: =(E34*AF34)+(AG34*E34) -> 0 | AI34: 0.5 | AJ34: 0.5 | AK34: =(E34*AI34)+(AJ34*E34) -> 0 | AL34: =J34+M34+P34+S34+V34+Y34+AB34+AE34+AH34+AK34 -> 0
B35: 21.3 | D35: =Kosztorys_Klienta!D45 -> 0 | E35: =Kosztorys_Klienta!E45 -> 0 | F35: 0 | H35: 0.5 | I35: 0.5 | J35: =(E35*H35)+(I35*E35) -> 0 | K35: 0.5 | L35: 0.5 | M35: =(E35*K35)+(L35*E35) -> 0 | N35: 0.5 | O35: 0.5 | P35: =(E35*N35)+(O35*E35) -> 0 | Q35: 0.5 | R35: 0.5 | S35: =(E35*Q35)+(R35*E35) -> 0 | T35: 0.5 | U35: 0.5 | V35: =(E35*T35)+(U35*E35) -> 0 | W35: 0.5 | X35: 0.5 | Y35: =(E35*W35)+(X35*E35) -> 0 | Z35: 0.5 | AA35: 0.5 | AB35: =(E35*Z35)+(AA35*E35) -> 0 | AC35: 0.5 | AD35: 0.5 | AE35: =(E35*AC35)+(AD35*E35) -> 0 | AF35: 0.5 | AG35: 0.5 | AH35: =(E35*AF35)+(AG35*E35) -> 0 | AI35: 0.5 | AJ35: 0.5 | AK35: =(E35*AI35)+(AJ35*E35) -> 0 | AL35: =J35+M35+P35+S35+V35+Y35+AB35+AE35+AH35+AK35 -> 0
B36: 21.4 | D36: =Kosztorys_Klienta!D46 -> 0 | E36: =Kosztorys_Klienta!E46 -> 0 | F36: 0 | H36: 0.5 | I36: 0.5 | J36: =(E36*H36)+(I36*E36) -> 0 | K36: 0.5 | L36: 0.5 | M36: =(E36*K36)+(L36*E36) -> 0 | N36: 0.5 | O36: 0.5 | P36: =(E36*N36)+(O36*E36) -> 0 | Q36: 0.5 | R36: 0.5 | S36: =(E36*Q36)+(R36*E36) -> 0 | T36: 0.5 | U36: 0.5 | V36: =(E36*T36)+(U36*E36) -> 0 | W36: 0.5 | X36: 0.5 | Y36: =(E36*W36)+(X36*E36) -> 0 | Z36: 0.5 | AA36: 0.5 | AB36: =(E36*Z36)+(AA36*E36) -> 0 | AC36: 0.5 | AD36: 0.5 | AE36: =(E36*AC36)+(AD36*E36) -> 0 | AF36: 0.5 | AG36: 0.5 | AH36: =(E36*AF36)+(AG36*E36) -> 0 | AI36: 0.5 | AJ36: 0.5 | AK36: =(E36*AI36)+(AJ36*E36) -> 0 | AL36: =J36+M36+P36+S36+V36+Y36+AB36+AE36+AH36+AK36 -> 0
B37: 21.5 | D37: =Kosztorys_Klienta!D47 -> 0 | E37: =Kosztorys_Klienta!E47 -> 0 | F37: 0 | H37: 0.5 | I37: 0.5 | J37: =(E37*H37)+(I37*E37) -> 0 | K37: 0.5 | L37: 0.5 | M37: =(E37*K37)+(L37*E37) -> 0 | N37: 0.5 | O37: 0.5 | P37: =(E37*N37)+(O37*E37) -> 0 | Q37: 0.5 | R37: 0.5 | S37: =(E37*Q37)+(R37*E37) -> 0 | T37: 0.5 | U37: 0.5 | V37: =(E37*T37)+(U37*E37) -> 0 | W37: 0.5 | X37: 0.5 | Y37: =(E37*W37)+(X37*E37) -> 0 | Z37: 0.5 | AA37: 0.5 | AB37: =(E37*Z37)+(AA37*E37) -> 0 | AC37: 0.5 | AD37: 0.5 | AE37: =(E37*AC37)+(AD37*E37) -> 0 | AF37: 0.5 | AG37: 0.5 | AH37: =(E37*AF37)+(AG37*E37) -> 0 | AI37: 0.5 | AJ37: 0.5 | AK37: =(E37*AI37)+(AJ37*E37) -> 0 | AL37: =J37+M37+P37+S37+V37+Y37+AB37+AE37+AH37+AK37 -> 0
AL38: =J38+M38+P38+S38+V38+Y38+AB38+AE38+AH38+AK38 -> 0
AL39: =J39+M39+P39+S39+V39+Y39+AB39+AE39+AH39+AK39 -> 0
B40: 22.1 | C40: Okładziny ścian (np. glazura, kamień, tynk ozbodny, szkło itd) | D40: =Kosztorys_Klienta!D50 -> 0 | E40: =Kosztorys_Klienta!E50 -> 0 | F40: 0 | H40: 0.5 | I40: 0.5 | J40: =(E40*H40)+(I40*E40) -> 0 | K40: 0.5 | L40: 0.5 | M40: =(E40*K40)+(L40*E40) -> 0 | N40: 0.5 | O40: 0.5 | P40: =(E40*N40)+(O40*E40) -> 0 | Q40: 0.5 | R40: 0.5 | S40: =(E40*Q40)+(R40*E40) -> 0 | T40: 0.5 | U40: 0.5 | V40: =(E40*T40)+(U40*E40) -> 0 | W40: 0.5 | X40: 0.5 | Y40: =(E40*W40)+(X40*E40) -> 0 | Z40: 0.5 | AA40: 0.5 | AB40: =(E40*Z40)+(AA40*E40) -> 0 | AC40: 0.5 | AD40: 0.5 | AE40: =(E40*AC40)+(AD40*E40) -> 0 | AF40: 0.5 | AG40: 0.5 | AH40: =(E40*AF40)+(AG40*E40) -> 0 | AI40: 0.5 | AJ40: 0.5 | AK40: =(E40*AI40)+(AJ40*E40) -> 0 | AL40: =J40+M40+P40+S40+V40+Y40+AB40+AE40+AH40+AK40 -> 0
B41: 22.2 | C41: Roboty malarskie | D41: =Kosztorys_Klienta!D51 -> 0 | E41: =Kosztorys_Klienta!E51 -> 0 | F41: 0 | H41: 0.5 | I41: 0.5 | J41: =(E41*H41)+(I41*E41) -> 0 | K41: 0.5 | L41: 0.5 | M41: =(E41*K41)+(L41*E41) -> 0 | N41: 0.5 | O41: 0.5 | P41: =(E41*N41)+(O41*E41) -> 0 | Q41: 0.5 | R41: 0.5 | S41: =(E41*Q41)+(R41*E41) -> 0 | T41: 0.5 | U41: 0.5 | V41: =(E41*T41)+(U41*E41) -> 0 | W41: 0.5 | X41: 0.5 | Y41: =(E41*W41)+(X41*E41) -> 0 | Z41: 0.5 | AA41: 0.5 | AB41: =(E41*Z41)+(AA41*E41) -> 0 | AC41: 0.5 | AD41: 0.5 | AE41: =(E41*AC41)+(AD41*E41) -> 0 | AF41: 0.5 | AG41: 0.5 | AH41: =(E41*AF41)+(AG41*E41) -> 0 | AI41: 0.5 | AJ41: 0.5 | AK41: =(E41*AI41)+(AJ41*E41) -> 0 | AL41: =J41+M41+P41+S41+V41+Y41+AB41+AE41+AH41+AK41 -> 0
B42: 22.3 | C42: Podłogi (np. parkiet, panele, terakota itp.) | D42: =Kosztorys_Klienta!D52 -> 0 | E42: =Kosztorys_Klienta!E52 -> 0 | F42: 0 | H42: 0.5 | I42: 0.5 | J42: =(E42*H42)+(I42*E42) -> 0 | K42: 0.5 | L42: 0.5 | M42: =(E42*K42)+(L42*E42) -> 0 | N42: 0.5 | O42: 0.5 | P42: =(E42*N42)+(O42*E42) -> 0 | Q42: 0.5 | R42: 0.5 | S42: =(E42*Q42)+(R42*E42) -> 0 | T42: 0.5 | U42: 0.5 | V42: =(E42*T42)+(U42*E42) -> 0 | W42: 0.5 | X42: 0.5 | Y42: =(E42*W42)+(X42*E42) -> 0 | Z42: 0.5 | AA42: 0.5 | AB42: =(E42*Z42)+(AA42*E42) -> 0 | AC42: 0.5 | AD42: 0.5 | AE42: =(E42*AC42)+(AD42*E42) -> 0 | AF42: 0.5 | AG42: 0.5 | AH42: =(E42*AF42)+(AG42*E42) -> 0 | AI42: 0.5 | AJ42: 0.5 | AK42: =(E42*AI42)+(AJ42*E42) -> 0 | AL42: =J42+M42+P42+S42+V42+Y42+AB42+AE42+AH42+AK42 -> 0
B43: 22.4 | C43: Wyposażenie kuchni (w tym AGD w stałej zabudowie) | D43: =Kosztorys_Klienta!D53 -> 0 | E43: =Kosztorys_Klienta!E53 -> 0 | F43: 0 | H43: 0.5 | I43: 0.5 | J43: =(E43*H43)+(I43*E43) -> 0 | K43: 0.5 | L43: 0.5 | M43: =(E43*K43)+(L43*E43) -> 0 | N43: 0.5 | O43: 0.5 | P43: =(E43*N43)+(O43*E43) -> 0 | Q43: 0.5 | R43: 0.5 | S43: =(E43*Q43)+(R43*E43) -> 0 | T43: 0.5 | U43: 0.5 | V43: =(E43*T43)+(U43*E43) -> 0 | W43: 0.5 | X43: 0.5 | Y43: =(E43*W43)+(X43*E43) -> 0 | Z43: 0.5 | AA43: 0.5 | AB43: =(E43*Z43)+(AA43*E43) -> 0 | AC43: 0.5 | AD43: 0.5 | AE43: =(E43*AC43)+(AD43*E43) -> 0 | AF43: 0.5 | AG43: 0.5 | AH43: =(E43*AF43)+(AG43*E43) -> 0 | AI43: 0.5 | AJ43: 0.5 | AK43: =(E43*AI43)+(AJ43*E43) -> 0 | AL43: =J43+M43+P43+S43+V43+Y43+AB43+AE43+AH43+AK43 -> 0
B44: 22.5 | C44: Wyposażenie łazienki/ek (biały montaż) | D44: =Kosztorys_Klienta!D54 -> 0 | E44: =Kosztorys_Klienta!E54 -> 0 | F44: 0 | H44: 0.5 | I44: 0.5 | J44: =(E44*H44)+(I44*E44) -> 0 | K44: 0.5 | L44: 0.5 | M44: =(E44*K44)+(L44*E44) -> 0 | N44: 0.5 | O44: 0.5 | P44: =(E44*N44)+(O44*E44) -> 0 | Q44: 0.5 | R44: 0.5 | S44: =(E44*Q44)+(R44*E44) -> 0 | T44: 0.5 | U44: 0.5 | V44: =(E44*T44)+(U44*E44) -> 0 | W44: 0.5 | X44: 0.5 | Y44: =(E44*W44)+(X44*E44) -> 0 | Z44: 0.5 | AA44: 0.5 | AB44: =(E44*Z44)+(AA44*E44) -> 0 | AC44: 0.5 | AD44: 0.5 | AE44: =(E44*AC44)+(AD44*E44) -> 0 | AF44: 0.5 | AG44: 0.5 | AH44: =(E44*AF44)+(AG44*E44) -> 0 | AI44: 0.5 | AJ44: 0.5 | AK44: =(E44*AI44)+(AJ44*E44) -> 0 | AL44: =J44+M44+P44+S44+V44+Y44+AB44+AE44+AH44+AK44 -> 0
B45: 22.6 | C45: Meble w stałej zabudowie (szafy wnękowe itp.) | D45: =Kosztorys_Klienta!D55 -> 0 | E45: =Kosztorys_Klienta!E55 -> 0 | F45: 0 | H45: 0.5 | I45: 0.5 | J45: =(E45*H45)+(I45*E45) -> 0 | K45: 0.5 | L45: 0.5 | M45: =(E45*K45)+(L45*E45) -> 0 | N45: 0.5 | O45: 0.5 | P45: =(E45*N45)+(O45*E45) -> 0 | Q45: 0.5 | R45: 0.5 | S45: =(E45*Q45)+(R45*E45) -> 0 | T45: 0.5 | U45: 0.5 | V45: =(E45*T45)+(U45*E45) -> 0 | W45: 0.5 | X45: 0.5 | Y45: =(E45*W45)+(X45*E45) -> 0 | Z45: 0.5 | AA45: 0.5 | AB45: =(E45*Z45)+(AA45*E45) -> 0 | AC45: 0.5 | AD45: 0.5 | AE45: =(E45*AC45)+(AD45*E45) -> 0 | AF45: 0.5 | AG45: 0.5 | AH45: =(E45*AF45)+(AG45*E45) -> 0 | AI45: 0.5 | AJ45: 0.5 | AK45: =(E45*AI45)+(AJ45*E45) -> 0 | AL45: =J45+M45+P45+S45+V45+Y45+AB45+AE45+AH45+AK45 -> 0
...

Sheet Akceptacja wypłaty
A1: Imię i Nazwisko Kredytobiorcy | B1: =Kosztorys_Klienta!D5 -> 0
A2: Adres inwestycji
A3: Województwo: | B3: =Kosztorys_Klienta!D7 -> 0
A4: Powiat: | B4: =Kosztorys_Klienta!D8 -> 0
A5: Gmina: | B5: =Kosztorys_Klienta!D9 -> 0
A6: Miejscowość: | B6: =Kosztorys_Klienta!D10 -> 0
A7: Ulica / Nr porządkowy: | B7: =Kosztorys_Klienta!D11 -> 0
A8: Nr działki ewidencyjnej: | B8: =Kosztorys_Klienta!D12 -> 0
B10: Transza nr I | C10: Transza nr II | D10: Transza nr III | E10: Transza nr IV | F10: Transza nr V | G10: Transza nr VI | H10: Transza nr VII | I10: Transza nr VIII | J10: Transza nr IX | K10: Transza nr X
A11: Data weryfikacji
A12: Osoba weryfikująca
A13: Kwota transzy (PLN)
A14: Akceptacja wypłaty (Tak/Nie)
A15: Uzasadnienie braku akceptacji
